BEGIN:VCALENDAR
VERSION:2.0
PRODID:-//Squarespace Inc/Squarespace 6//v6//EN
BEGIN:VEVENT
UID:600a4dcc22c19d3062daf64a@squarespace.com
DTSTAMP:20210122T040401Z
DTSTART:20210130T200000Z
DTEND:20210131T105900Z
SUMMARY:Auckland Folk Festival (Copy)
GEO:-36.780033;174.553731
LOCATION:Kumeu Showgrounds\, 35/41 Access Rd\, Kumeu
END:VEVENT
END:VCALENDAR
