BEGIN:VCALENDAR
VERSION:2.0
PRODID:-//Squarespace Inc/Squarespace 6//v6//EN
BEGIN:VEVENT
UID:5fd800f41414602fbe861772@squarespace.com
DTSTAMP:20210122T040012Z
DTSTART:20210129T210000Z
DTEND:20210130T105900Z
SUMMARY:Auckland Folk Festival
GEO:-36.780033;174.553731
LOCATION:Kumeu Showgrounds\, 35/41 Access Rd\, Kumeu
END:VEVENT
END:VCALENDAR
